BEGIN:VCALENDAR
VERSION:2.0
PRODID:-//Villaggio del Sole - ECPv5.0.3.1//NONSGML v1.0//EN
CALSCALE:GREGORIAN
METHOD:PUBLISH
X-WR-CALNAME:Villaggio del Sole
X-ORIGINAL-URL:https://www.villaggiodelsole.org
X-WR-CALDESC:Eventi per Villaggio del Sole
BEGIN:VTIMEZONE
TZID:UTC
BEGIN:STANDARD
TZOFFSETFROM:+0000
TZOFFSETTO:+0000
TZNAME:UTC
DTSTART:20220101T000000
END:STANDARD
END:VTIMEZONE
BEGIN:VEVENT
DTSTART;TZID=UTC:20220625T163000
DTEND;TZID=UTC:20220626T190000
DTSTAMP:20260422T005403
CREATED:20220611T085203Z
LAST-MODIFIED:20220611T085203Z
UID:2345-1656174600-1656270000@www.villaggiodelsole.org
SUMMARY:Naked Yoga
DESCRIPTION:SABATO e DOMENICA. Lezioni di naked yoga da un ora e quindici minuti. Per info e orari: chiama Francesca al 3669502015. \n
URL:https://www.villaggiodelsole.org/evento/naked-yoga-39/
ATTACH;FMTTYPE=image/jpeg:https://www.villaggiodelsole.org/wp-content/uploads/2020/07/nude-yoga-2.jpg
END:VEVENT
END:VCALENDAR