BEGIN:VCALENDAR
VERSION:2.0
PRODID:-//Villaggio del Sole - ECPv5.0.3.1//NONSGML v1.0//EN
CALSCALE:GREGORIAN
METHOD:PUBLISH
X-WR-CALNAME:Villaggio del Sole
X-ORIGINAL-URL:https://www.villaggiodelsole.org
X-WR-CALDESC:Eventi per Villaggio del Sole
BEGIN:VTIMEZONE
TZID:UTC
BEGIN:STANDARD
TZOFFSETFROM:+0000
TZOFFSETTO:+0000
TZNAME:UTC
DTSTART:20220101T000000
END:STANDARD
END:VTIMEZONE
BEGIN:VEVENT
DTSTART;TZID=UTC:20220827T173000
DTEND;TZID=UTC:20220828T180000
DTSTAMP:20260420T134341
CREATED:20220719T144004Z
LAST-MODIFIED:20220719T144004Z
UID:2566-1661621400-1661709600@www.villaggiodelsole.org
SUMMARY:Naked Yoga
DESCRIPTION:SABATO e DOMENICA. Lezioni di naked yoga da un ora e quindici minuti. Per info e orari: chiama Francesca al 3669502015. \n
URL:https://www.villaggiodelsole.org/evento/naked-yoga-46/
ATTACH;FMTTYPE=image/jpeg:https://www.villaggiodelsole.org/wp-content/uploads/2020/07/yoga_coppie_2.jpg
END:VEVENT
END:VCALENDAR