BEGIN:VCALENDAR
VERSION:2.0
PRODID:-//Villaggio del Sole - ECPv5.0.3.1//NONSGML v1.0//EN
CALSCALE:GREGORIAN
METHOD:PUBLISH
X-WR-CALNAME:Villaggio del Sole
X-ORIGINAL-URL:https://www.villaggiodelsole.org
X-WR-CALDESC:Eventi per Villaggio del Sole
BEGIN:VTIMEZONE
TZID:UTC
BEGIN:STANDARD
TZOFFSETFROM:+0000
TZOFFSETTO:+0000
TZNAME:UTC
DTSTART:20200101T000000
END:STANDARD
END:VTIMEZONE
BEGIN:VEVENT
DTSTART;TZID=UTC:20200719T170000
DTEND;TZID=UTC:20200719T181500
DTSTAMP:20260421T094855
CREATED:20200708T111306Z
LAST-MODIFIED:20200708T111306Z
UID:1269-1595178000-1595182500@www.villaggiodelsole.org
SUMMARY:Naked Yoga
DESCRIPTION:DOMENICA.  Lezione di Naked Yoga con Francesca. Durata 1 ora e 15 minuti. Contributo 5 €. \n
URL:https://www.villaggiodelsole.org/evento/naked-yoga-7/
ATTACH;FMTTYPE=image/jpeg:https://www.villaggiodelsole.org/wp-content/uploads/2020/03/PERSONE23-scaled.jpg
END:VEVENT
END:VCALENDAR