BEGIN:VCALENDAR
VERSION:2.0
PRODID:-//Villaggio del Sole - ECPv5.0.3.1//NONSGML v1.0//EN
CALSCALE:GREGORIAN
METHOD:PUBLISH
X-WR-CALNAME:Villaggio del Sole
X-ORIGINAL-URL:https://www.villaggiodelsole.org
X-WR-CALDESC:Eventi per Villaggio del Sole
BEGIN:VTIMEZONE
TZID:UTC
BEGIN:STANDARD
TZOFFSETFROM:+0000
TZOFFSETTO:+0000
TZNAME:UTC
DTSTART:20200101T000000
END:STANDARD
END:VTIMEZONE
BEGIN:VEVENT
DTSTART;TZID=UTC:20200717T210000
DTEND;TZID=UTC:20200717T230000
DTSTAMP:20260421T002445
CREATED:20200701T195356Z
LAST-MODIFIED:20200708T105755Z
UID:1239-1595019600-1595026800@www.villaggiodelsole.org
SUMMARY:Nat-film Festival - Cinema all'aperto
DESCRIPTION:VENERDI. Proiezione su maxi schermo delle commedie più divertenti ed esilaranti del cinema italiano e straniero!! Non mancare ogni venerdì al Nat-Film Festival! \n
URL:https://www.villaggiodelsole.org/evento/nat-film-festival-cinema-allaperto-su-maxi-schermo/
ATTACH;FMTTYPE=image/jpeg:https://www.villaggiodelsole.org/wp-content/uploads/2020/07/film-nat-villaggio3.jpg
END:VEVENT
END:VCALENDAR