BEGIN:VCALENDAR
VERSION:2.0
PRODID:-//Villaggio del Sole - ECPv5.0.3.1//NONSGML v1.0//EN
CALSCALE:GREGORIAN
METHOD:PUBLISH
X-WR-CALNAME:Villaggio del Sole
X-ORIGINAL-URL:https://www.villaggiodelsole.org
X-WR-CALDESC:Eventi per Villaggio del Sole
BEGIN:VTIMEZONE
TZID:UTC
BEGIN:STANDARD
TZOFFSETFROM:+0000
TZOFFSETTO:+0000
TZNAME:UTC
DTSTART:20220101T000000
END:STANDARD
END:VTIMEZONE
BEGIN:VEVENT
DTSTART;TZID=UTC:20220703T160000
DTEND;TZID=UTC:20220703T170000
DTSTAMP:20260422T005852
CREATED:20220611T095018Z
LAST-MODIFIED:20220611T095018Z
UID:2373-1656864000-1656867600@www.villaggiodelsole.org
SUMMARY:Presentazione Libro di Tullio Monti
DESCRIPTION:DOMENICA. Ore 16.00. Presentazione del libro “Percorsi Laici”\, di Tullio Monti\, con Tullio Monti e Adriana Simonato. Il libro raccoglie alcuni saggi scritti dall’autore relativi al pensiero laico e liberal socialista. \n
URL:https://www.villaggiodelsole.org/evento/presentazione-libro-di-tullio-monti/
ATTACH;FMTTYPE=image/jpeg:https://www.villaggiodelsole.org/wp-content/uploads/2022/06/PHOTO-2022-06-07-12-10-07.jpg
END:VEVENT
END:VCALENDAR