BEGIN:VCALENDAR
VERSION:2.0
PRODID:-//Villaggio del Sole - ECPv5.0.3.1//NONSGML v1.0//EN
CALSCALE:GREGORIAN
METHOD:PUBLISH
X-WR-CALNAME:Villaggio del Sole
X-ORIGINAL-URL:https://www.villaggiodelsole.org
X-WR-CALDESC:Eventi per Villaggio del Sole
BEGIN:VTIMEZONE
TZID:UTC
BEGIN:STANDARD
TZOFFSETFROM:+0000
TZOFFSETTO:+0000
TZNAME:UTC
DTSTART:20210101T000000
END:STANDARD
END:VTIMEZONE
BEGIN:VEVENT
DTSTART;TZID=UTC:20210628T090000
DTEND;TZID=UTC:20210702T190000
DTSTAMP:20260424T184507
CREATED:20210622T113947Z
LAST-MODIFIED:20210622T113947Z
UID:1763-1624870800-1625252400@www.villaggiodelsole.org
SUMMARY:Settimana naturista: accoglienza giornaliera
DESCRIPTION:TUTTI I GIORNI della settimana al villaggio del sole: massaggi naturisti\, piscina\, jacuzzi 5 posti\, lettini da sole\, docce e servizi igienici\, trekking\, tintarella\, bar self service\, ping-pong\, calcio balilla\, trampolino elastico\, baby club e tanto sole… \n
URL:https://www.villaggiodelsole.org/evento/settimana-naturista-accoglienza-giornaliera-7/
ATTACH;FMTTYPE=image/jpeg:https://www.villaggiodelsole.org/wp-content/uploads/2020/03/CIMG9824.jpg
END:VEVENT
END:VCALENDAR