BEGIN:VCALENDAR
VERSION:2.0
PRODID:-//Villaggio del Sole - ECPv5.0.3.1//NONSGML v1.0//EN
CALSCALE:GREGORIAN
METHOD:PUBLISH
X-WR-CALNAME:Villaggio del Sole
X-ORIGINAL-URL:https://www.villaggiodelsole.org
X-WR-CALDESC:Eventi per Villaggio del Sole
BEGIN:VTIMEZONE
TZID:UTC
BEGIN:STANDARD
TZOFFSETFROM:+0000
TZOFFSETTO:+0000
TZNAME:UTC
DTSTART:20230101T000000
END:STANDARD
END:VTIMEZONE
BEGIN:VEVENT
DTSTART;TZID=UTC:20230703T090000
DTEND;TZID=UTC:20230707T190000
DTSTAMP:20260419T212833
CREATED:20230519T143149Z
LAST-MODIFIED:20230519T143149Z
UID:2957-1688374800-1688756400@www.villaggiodelsole.org
SUMMARY:Settimana Naturista    Massaggi e Benessere
DESCRIPTION:Aperto tutti i giorni della settimana per la tua giornata di relax oppure per la tua settimana di vacanza! Oppure per il tuo massaggio naturista di Coppia o individuale! Oppure per il tuo pernottamento in B&B\, con pacchetto benessere! Chiama per info e prenotazioni al 334 7669278! Siamo aperti tutti i giorni della settimana dalle 9.00 a sera… \n
URL:https://www.villaggiodelsole.org/evento/settimana-naturista-massaggi-e-benessere-8/
ATTACH;FMTTYPE=image/jpeg:https://www.villaggiodelsole.org/wp-content/uploads/2021/10/CIMG0409.jpg
END:VEVENT
END:VCALENDAR