BEGIN:VCALENDAR
VERSION:2.0
PRODID:-//Villaggio del Sole - ECPv5.0.3.1//NONSGML v1.0//EN
CALSCALE:GREGORIAN
METHOD:PUBLISH
X-WR-CALNAME:Villaggio del Sole
X-ORIGINAL-URL:https://www.villaggiodelsole.org
X-WR-CALDESC:Eventi per Villaggio del Sole
BEGIN:VTIMEZONE
TZID:UTC
BEGIN:STANDARD
TZOFFSETFROM:+0000
TZOFFSETTO:+0000
TZNAME:UTC
DTSTART:20220101T000000
END:STANDARD
END:VTIMEZONE
BEGIN:VEVENT
DTSTART;TZID=UTC:20220902T213000
DTEND;TZID=UTC:20220902T233000
DTSTAMP:20260420T121743
CREATED:20220818T101325Z
LAST-MODIFIED:20220818T101325Z
UID:2609-1662154200-1662161400@www.villaggiodelsole.org
SUMMARY:Venerdi 2 Settembre  Cinema Maxi Schermo
DESCRIPTION:Rassegna cinema d’autore. I grandi film rivisti come al cinema\, ma in salotto. Non mancare!! \n
URL:https://www.villaggiodelsole.org/evento/venerdi-2-settembre-cinema-maxi-schermo/
ATTACH;FMTTYPE=image/jpeg:https://www.villaggiodelsole.org/wp-content/uploads/2021/07/cinema-aperto.jpg
END:VEVENT
END:VCALENDAR