BEGIN:VCALENDAR
VERSION:2.0
PRODID:-//Villaggio del Sole - ECPv5.0.3.1//NONSGML v1.0//EN
CALSCALE:GREGORIAN
METHOD:PUBLISH
X-WR-CALNAME:Villaggio del Sole
X-ORIGINAL-URL:https://www.villaggiodelsole.org
X-WR-CALDESC:Eventi per Villaggio del Sole
BEGIN:VTIMEZONE
TZID:UTC
BEGIN:STANDARD
TZOFFSETFROM:+0000
TZOFFSETTO:+0000
TZNAME:UTC
DTSTART:20220101T000000
END:STANDARD
END:VTIMEZONE
BEGIN:VEVENT
DTSTART;TZID=UTC:20220805T213000
DTEND;TZID=UTC:20220805T233000
DTSTAMP:20260421T023904
CREATED:20220719T103241Z
LAST-MODIFIED:20220719T103241Z
UID:2487-1659735000-1659742200@www.villaggiodelsole.org
SUMMARY:Venerdi 5 Agosto Cinema Maxi Schermo
DESCRIPTION:Rassegna cinema d’autore. I grandi film rivisti come al cinema\, ma in salotto. Non mancare!! \n
URL:https://www.villaggiodelsole.org/evento/venerdi-5-agosto-cinema-maxi-schermo/
ATTACH;FMTTYPE=image/jpeg:https://www.villaggiodelsole.org/wp-content/uploads/2022/05/nove-e-mezza.jpg
END:VEVENT
END:VCALENDAR