BEGIN:VCALENDAR
VERSION:2.0
PRODID:-//Villaggio del Sole - ECPv5.0.3.1//NONSGML v1.0//EN
CALSCALE:GREGORIAN
METHOD:PUBLISH
X-WR-CALNAME:Villaggio del Sole
X-ORIGINAL-URL:https://www.villaggiodelsole.org
X-WR-CALDESC:Eventi per Villaggio del Sole
BEGIN:VTIMEZONE
TZID:UTC
BEGIN:STANDARD
TZOFFSETFROM:+0000
TZOFFSETTO:+0000
TZNAME:UTC
DTSTART:20200101T000000
END:STANDARD
END:VTIMEZONE
BEGIN:VEVENT
DTSTART;TZID=UTC:20200703T213000
DTEND;TZID=UTC:20200703T230000
DTSTAMP:20260420T075222
CREATED:20200701T195013Z
LAST-MODIFIED:20200701T195544Z
UID:1231-1593811800-1593817200@www.villaggiodelsole.org
SUMMARY:Nat-Film Festival - Cinema all'aperto
DESCRIPTION:Proiezione su maxi schermo delle commedie più divertenti ed esilaranti del cinema italiano e straniero!! Non mancare ogni venerdì al Nat-Film Festival! \n
URL:https://www.villaggiodelsole.org/evento/venerdi-cinema-allaperto/
ATTACH;FMTTYPE=image/jpeg:https://www.villaggiodelsole.org/wp-content/uploads/2020/07/film-nat-villaggio.jpg
END:VEVENT
END:VCALENDAR