BEGIN:VCALENDAR
VERSION:2.0
PRODID:-//Villaggio del Sole - ECPv5.0.3.1//NONSGML v1.0//EN
CALSCALE:GREGORIAN
METHOD:PUBLISH
X-WR-CALNAME:Villaggio del Sole
X-ORIGINAL-URL:https://www.villaggiodelsole.org
X-WR-CALDESC:Eventi per Villaggio del Sole
BEGIN:VTIMEZONE
TZID:UTC
BEGIN:STANDARD
TZOFFSETFROM:+0000
TZOFFSETTO:+0000
TZNAME:UTC
DTSTART:20210101T000000
END:STANDARD
END:VTIMEZONE
BEGIN:VEVENT
DTSTART;TZID=UTC:20210918T090000
DTEND;TZID=UTC:20210919T190000
DTSTAMP:20260422T094921
CREATED:20210830T092027Z
LAST-MODIFIED:20210830T092146Z
UID:1991-1631955600-1632078000@www.villaggiodelsole.org
SUMMARY:Week end 18-19 settembre
DESCRIPTION:SABATO: Meditazione ore 16.00\, Naked Yoga ore 17.00\, Massaggi naturisti tutto il giorno su appuntamento. \nDOMENICA: Meditazione ore 16.00\, Naked Yoga ore 17.00\, Karaoke ore 17.30\, Massaggi naturisti tutto il giorno su appuntamento. \nBEAUTY and RELAX Week-end. Un week-end di benessere naturista vero! Fine settimana dedicato al benessere psicofisico dove sarete coccolati con massaggi e trattamenti di alta qualità. Passerete un week-end tra aromi e profumi dimenticati dedicandovi a voi stessi. Il pacchetto comprende sette trattamenti in due\, pernottamento in B&B o bungalow\, colazione e un percorso benessere a testa\, da fare separatamente.\nProgramma per lui: 2 massaggi + 1 massaggio da 1/2 ora.\nProgramma per lei: 1 idromassaggio con massaggio + 2 mass a scelta + 1 trattamento crema viso-corpo.\n260 € a coppia. \n
URL:https://www.villaggiodelsole.org/evento/week-end-18-19-settembre/
ATTACH;FMTTYPE=image/jpeg:https://www.villaggiodelsole.org/wp-content/uploads/2020/12/massaggio-di-coppia_1.jpg
END:VEVENT
END:VCALENDAR