BEGIN:VCALENDAR
VERSION:2.0
PRODID:-//Villaggio del Sole - ECPv5.0.3.1//NONSGML v1.0//EN
CALSCALE:GREGORIAN
METHOD:PUBLISH
X-WR-CALNAME:Villaggio del Sole
X-ORIGINAL-URL:https://www.villaggiodelsole.org
X-WR-CALDESC:Eventi per Villaggio del Sole
BEGIN:VTIMEZONE
TZID:UTC
BEGIN:STANDARD
TZOFFSETFROM:+0000
TZOFFSETTO:+0000
TZNAME:UTC
DTSTART:20200101T000000
END:STANDARD
END:VTIMEZONE
BEGIN:VEVENT
DTSTART;TZID=UTC:20200919T090000
DTEND;TZID=UTC:20200920T190000
DTSTAMP:20260425T010409
CREATED:20200729T134348Z
LAST-MODIFIED:20200919T211018Z
UID:1446-1600506000-1600628400@www.villaggiodelsole.org
SUMMARY:Week-end di accoglienza naturista
DESCRIPTION:Fine settimana di apertura senza eventi. Con questo week-end il villaggio del sole chiude all’accoglienza naturista stagionale; rimane aperto il B&B e l’Area Massaggi e Benessere. Apertura prossima stagione prevista per Maggio 2021. Grazie a tutti!! \n
URL:https://www.villaggiodelsole.org/evento/week-end-di-accoglienza-naturista-3/
ATTACH;FMTTYPE=image/jpeg:https://www.villaggiodelsole.org/wp-content/uploads/2020/02/CIMG5346.jpg
END:VEVENT
END:VCALENDAR