BEGIN:VCALENDAR
VERSION:2.0
PRODID:-//Villaggio del Sole - ECPv5.0.3.1//NONSGML v1.0//EN
CALSCALE:GREGORIAN
METHOD:PUBLISH
X-WR-CALNAME:Villaggio del Sole
X-ORIGINAL-URL:https://www.villaggiodelsole.org
X-WR-CALDESC:Eventi per Villaggio del Sole
BEGIN:VTIMEZONE
TZID:UTC
BEGIN:STANDARD
TZOFFSETFROM:+0000
TZOFFSETTO:+0000
TZNAME:UTC
DTSTART:20200101T000000
END:STANDARD
END:VTIMEZONE
BEGIN:VEVENT
DTSTART;TZID=UTC:20200905T090000
DTEND;TZID=UTC:20200906T190000
DTSTAMP:20260425T010410
CREATED:20200729T133659Z
LAST-MODIFIED:20200729T133755Z
UID:1442-1599296400-1599418800@www.villaggiodelsole.org
SUMMARY:Week-end di accoglienza naturista
DESCRIPTION:Fine settimana di apertura senza attività di animazione. \n
URL:https://www.villaggiodelsole.org/evento/week-end-di-accoglienza-naturista/
ATTACH;FMTTYPE=image/jpeg:https://www.villaggiodelsole.org/wp-content/uploads/2020/02/CIMG9894.jpg
END:VEVENT
END:VCALENDAR