BEGIN:VCALENDAR
VERSION:2.0
PRODID:-//Villaggio del Sole - ECPv5.0.3.1//NONSGML v1.0//EN
CALSCALE:GREGORIAN
METHOD:PUBLISH
X-WR-CALNAME:Villaggio del Sole
X-ORIGINAL-URL:https://www.villaggiodelsole.org
X-WR-CALDESC:Eventi per Villaggio del Sole
BEGIN:VTIMEZONE
TZID:UTC
BEGIN:STANDARD
TZOFFSETFROM:+0000
TZOFFSETTO:+0000
TZNAME:UTC
DTSTART:20210101T000000
END:STANDARD
END:VTIMEZONE
BEGIN:VEVENT
DTSTART;TZID=UTC:20210522T090000
DTEND;TZID=UTC:20210523T200000
DTSTAMP:20260424T233034
CREATED:20210503T211904Z
LAST-MODIFIED:20210503T211904Z
UID:1532-1621674000-1621800000@www.villaggiodelsole.org
SUMMARY:Week-end naturista
DESCRIPTION:Fine settimana di elioterapia naturista stagione 2021. Tintarella\, piscina\, idromassaggio e servizio bar self service. Lettini da sole\, servizi e docce. Una giornata o un week-end di vero relax naturista!! Ti aspettiamo! \n
URL:https://www.villaggiodelsole.org/evento/week-end-naturista-2/
ATTACH;FMTTYPE=image/jpeg:https://www.villaggiodelsole.org/wp-content/uploads/2020/03/TERRAZZO2.jpg
END:VEVENT
END:VCALENDAR