BEGIN:VCALENDAR
VERSION:2.0
PRODID:-//Villaggio del Sole - ECPv5.0.3.1//NONSGML v1.0//EN
CALSCALE:GREGORIAN
METHOD:PUBLISH
X-WR-CALNAME:Villaggio del Sole
X-ORIGINAL-URL:https://www.villaggiodelsole.org
X-WR-CALDESC:Eventi per Villaggio del Sole
BEGIN:VTIMEZONE
TZID:UTC
BEGIN:STANDARD
TZOFFSETFROM:+0000
TZOFFSETTO:+0000
TZNAME:UTC
DTSTART:20250101T000000
END:STANDARD
END:VTIMEZONE
BEGIN:VEVENT
DTSTART;TZID=UTC:20250121T190000
DTEND;TZID=UTC:20250121T201500
DTSTAMP:20260420T144844
CREATED:20250111T115356Z
LAST-MODIFIED:20250111T115356Z
UID:3904-1737486000-1737490500@www.villaggiodelsole.org
SUMMARY:Yoga Ratna
DESCRIPTION:Yoga Ratna con Francesca ore 19.00 \n
URL:https://www.villaggiodelsole.org/evento/yoga-ratna-2/
ATTACH;FMTTYPE=image/jpeg:https://www.villaggiodelsole.org/wp-content/uploads/2021/12/yoga.jpg
END:VEVENT
END:VCALENDAR