BEGIN:VCALENDAR
VERSION:2.0
PRODID:-//Villaggio del Sole - ECPv5.0.3.1//NONSGML v1.0//EN
CALSCALE:GREGORIAN
METHOD:PUBLISH
X-WR-CALNAME:Villaggio del Sole
X-ORIGINAL-URL:https://www.villaggiodelsole.org
X-WR-CALDESC:Eventi per Villaggio del Sole
BEGIN:VTIMEZONE
TZID:UTC
BEGIN:STANDARD
TZOFFSETFROM:+0000
TZOFFSETTO:+0000
TZNAME:UTC
DTSTART:20230101T000000
END:STANDARD
END:VTIMEZONE
BEGIN:VEVENT
DTSTART;TZID=UTC:20230606T184500
DTEND;TZID=UTC:20230606T200000
DTSTAMP:20260420T003049
CREATED:20230519T132040Z
LAST-MODIFIED:20230519T132040Z
UID:2907-1686077100-1686081600@www.villaggiodelsole.org
SUMMARY:Yoga Ratna  Martedi
DESCRIPTION:Dalle 18.45 alle 20.00. Salone degli archi. Lezione di Yoga con Francesca. Prenotazioni: 3669502015. \n
URL:https://www.villaggiodelsole.org/evento/yoga-ratna-martedi/
ATTACH;FMTTYPE=image/jpeg:https://www.villaggiodelsole.org/wp-content/uploads/2021/12/yoga.jpg
END:VEVENT
END:VCALENDAR